BEGIN:VCALENDAR
VERSION:2.0
PRODID:-//collectorscarworld - ECPv6.6.3//NONSGML v1.0//EN
CALSCALE:GREGORIAN
METHOD:PUBLISH
X-ORIGINAL-URL:https://collectorscarworld.com
X-WR-CALDESC:Events for collectorscarworld
REFRESH-INTERVAL;VALUE=DURATION:PT1H
X-Robots-Tag:noindex
X-PUBLISHED-TTL:PT1H
BEGIN:VTIMEZONE
TZID:Europe/Berlin
BEGIN:DAYLIGHT
TZOFFSETFROM:+0100
TZOFFSETTO:+0200
TZNAME:CEST
DTSTART:20200329T010000
END:DAYLIGHT
BEGIN:STANDARD
TZOFFSETFROM:+0200
TZOFFSETTO:+0100
TZNAME:CET
DTSTART:20201025T010000
END:STANDARD
END:VTIMEZONE
BEGIN:VEVENT
DTSTART;VALUE=DATE:20200118
DTEND;VALUE=DATE:20200120
DTSTAMP:20260425T184809
CREATED:20191218T142011Z
LAST-MODIFIED:20191218T142011Z
UID:308007-1579305600-1579478399@collectorscarworld.com
SUMMARY:Scottsdale 2019 by Gooding & Company
DESCRIPTION:Arizona is an ideal winter destination\, and each January\, Scottsdale hosts a thriving automotive marketplace adjacent to the Fashion Square Mall and charming Old Town Scottsdale. Scottsdale is the only venue not tied to a concours\, so its true focus is buying and selling. Additionally\, it’s the first auction of the calendar year\, so clients are even more eager to bid on exceptional cars. Gooding & Company has brought a refined approach to this lively and well-established event\, offering stunning examples across marques and eras. When our viewing showcase opens on Wednesday of Arizona Auction Week\, enthusiasts will be able to enjoy the high-quality assortment of vehicles up for auction and connect with fellow collectors and Gooding & Company’s auction experts. Over the past decade in Scottsdale\, Gooding & Company has consistently raised the bar for the collector-car year\, with records that reset the market. Our exceptional collection often becomes the talk of the town and beyond. \nFind out more on goodingco.com
URL:https://collectorscarworld.com/event/scottsdale-2019-gooding-company/
CATEGORIES:Auctions
ATTACH;FMTTYPE=:
END:VEVENT
BEGIN:VEVENT
DTSTART;VALUE=DATE:20200209
DTEND;VALUE=DATE:20200210
DTSTAMP:20260425T184809
CREATED:20191007T155321Z
LAST-MODIFIED:20191007T155321Z
UID:303321-1581206400-1581292799@collectorscarworld.com
SUMMARY:Bonhams Grand Palais
DESCRIPTION:Paris France – Important Collectors’ Cars And Fine Automobilia \nbonhams.com
URL:https://collectorscarworld.com/event/bonhams-grand-palais-2/
CATEGORIES:Auctions
ATTACH;FMTTYPE=:
END:VEVENT
BEGIN:VEVENT
DTSTART;VALUE=DATE:20200311
DTEND;VALUE=DATE:20200315
DTSTAMP:20260425T184809
CREATED:20200307T102534Z
LAST-MODIFIED:20200307T102534Z
UID:315916-1583884800-1584230399@collectorscarworld.com
SUMMARY:Mecum Glendale
DESCRIPTION:State Farm Stadium  1 Cardinals Drive  Glendale\, AZ 85305 \nFind out more here
URL:https://collectorscarworld.com/event/mecum-glendale/
CATEGORIES:Auctions
ATTACH;FMTTYPE=:
END:VEVENT
BEGIN:VEVENT
DTSTART;VALUE=DATE:20200325
DTEND;VALUE=DATE:20200329
DTSTAMP:20260425T184809
CREATED:20200310T140114Z
LAST-MODIFIED:20200310T140114Z
UID:316189-1585094400-1585439999@collectorscarworld.com
SUMMARY:Mecum Davenport 2020 (postponed)
DESCRIPTION:Mississippi Valley Fair Center // 2815 W Locust Street  Davenport\, IA 52804 \nFind out more 
URL:https://collectorscarworld.com/event/mecum-davenport-2020/
CATEGORIES:Auctions
ATTACH;FMTTYPE=:
END:VEVENT
BEGIN:VEVENT
DTSTART;VALUE=DATE:20200329
DTEND;VALUE=DATE:20200330
DTSTAMP:20260425T184809
CREATED:20200310T134755Z
LAST-MODIFIED:20200310T134755Z
UID:316177-1585440000-1585526399@collectorscarworld.com
SUMMARY:Bonhams Goodwood Members' Meeting Sale (Goes Ahead In Revised Format)
DESCRIPTION:Important Sports\, Competition and Collectors’ Motor Cars Chichester\, Sussex | Sunday 29 March at 13.00 \nFind out more
URL:https://collectorscarworld.com/event/bonhams-goodwood-members-meeting-sale/
CATEGORIES:Auctions
ATTACH;FMTTYPE=:
END:VEVENT
BEGIN:VEVENT
DTSTART;VALUE=DATE:20200401
DTEND;VALUE=DATE:20200402
DTSTAMP:20260425T184809
CREATED:20200315T214222Z
LAST-MODIFIED:20200315T214222Z
UID:316735-1585699200-1585785599@collectorscarworld.com
SUMMARY:Passion Of A Lifetime
DESCRIPTION:
URL:https://collectorscarworld.com/event/passion-of-a-lifetime/
CATEGORIES:Auctions
ATTACH;FMTTYPE=:
END:VEVENT
BEGIN:VEVENT
DTSTART;VALUE=DATE:20200402
DTEND;VALUE=DATE:20200405
DTSTAMP:20260425T184809
CREATED:20200310T140457Z
LAST-MODIFIED:20200310T140457Z
UID:316192-1585785600-1586044799@collectorscarworld.com
SUMMARY:Mecum Houston 2020 (postponed)
DESCRIPTION:NRG Center // One NRG Park  Houston\, TX 77054 \nFind out more 
URL:https://collectorscarworld.com/event/mecum-houston-2020/
CATEGORIES:Auctions
ATTACH;FMTTYPE=:
END:VEVENT
BEGIN:VEVENT
DTSTART;VALUE=DATE:20200512
DTEND;VALUE=DATE:20200528
DTSTAMP:20260425T184809
CREATED:20200512T172438Z
LAST-MODIFIED:20200512T172438Z
UID:320993-1589241600-1590623999@collectorscarworld.com
SUMMARY:Osenat’s Online-Only Auction
DESCRIPTION:
URL:https://collectorscarworld.com/event/osenats-online-only-auction/
CATEGORIES:Auctions
ATTACH;FMTTYPE=:
END:VEVENT
BEGIN:VEVENT
DTSTART;VALUE=DATE:20200521
DTEND;VALUE=DATE:20200530
DTSTAMP:20260425T184809
CREATED:20200512T160708Z
LAST-MODIFIED:20200512T160708Z
UID:320945-1590019200-1590796799@collectorscarworld.com
SUMMARY:RM Sotheby's Online Only: Driving Into Summer
DESCRIPTION:
URL:https://collectorscarworld.com/event/rm-sothebys-online-only-driving-into-summer/
CATEGORIES:Auctions
ATTACH;FMTTYPE=:
END:VEVENT
BEGIN:VEVENT
DTSTART;VALUE=DATE:20200527
DTEND;VALUE=DATE:20200528
DTSTAMP:20260425T184809
CREATED:20200512T155902Z
LAST-MODIFIED:20200512T155902Z
UID:320942-1590537600-1590623999@collectorscarworld.com
SUMMARY:A|B|C Live Auction Online by H and H Auctioneers
DESCRIPTION:
URL:https://collectorscarworld.com/event/abc-live-auction-online-by-h-and-h-auctioneers/
CATEGORIES:Auctions
ATTACH;FMTTYPE=:
END:VEVENT
BEGIN:VEVENT
DTSTART;VALUE=DATE:20200530
DTEND;VALUE=DATE:20200531
DTSTAMP:20260425T184809
CREATED:20200420T182029Z
LAST-MODIFIED:20200420T182029Z
UID:319358-1590796800-1590883199@collectorscarworld.com
SUMMARY:Bonhams May Online Auction
DESCRIPTION:
URL:https://collectorscarworld.com/event/bonhams-may-online-auction/
CATEGORIES:Auctions
ATTACH;FMTTYPE=:
END:VEVENT
BEGIN:VEVENT
DTSTART;VALUE=DATE:20200603
DTEND;VALUE=DATE:20200611
DTSTAMP:20260425T184809
CREATED:20200512T170607Z
LAST-MODIFIED:20200512T170607Z
UID:320948-1591142400-1591833599@collectorscarworld.com
SUMMARY:RM Sotheby’s Online Only: The European Sale
DESCRIPTION:
URL:https://collectorscarworld.com/event/rm-sothebys-online-only-the-european-sale/
CATEGORIES:Auctions
ATTACH;FMTTYPE=:
END:VEVENT
BEGIN:VEVENT
DTSTART;VALUE=DATE:20200710
DTEND;VALUE=DATE:20200719
DTSTAMP:20260425T184809
CREATED:20200310T140811Z
LAST-MODIFIED:20200310T140811Z
UID:316195-1594339200-1595116799@collectorscarworld.com
SUMMARY:Mecum Indy 2020 (New Date)
DESCRIPTION:Indiana State Fairgrounds // 1202 E 38th Street  Indianapolis\, IN 46205 \nFind out more
URL:https://collectorscarworld.com/event/mecum-indy-2020/
CATEGORIES:Auctions
ATTACH;FMTTYPE=:
END:VEVENT
BEGIN:VEVENT
DTSTART;VALUE=DATE:20200725
DTEND;VALUE=DATE:20200726
DTSTAMP:20260425T184809
CREATED:20200612T085659Z
LAST-MODIFIED:20200612T085659Z
UID:322740-1595635200-1595721599@collectorscarworld.com
SUMMARY:Bonhams July Motor Car Sale at Bicester Heritage
DESCRIPTION:
URL:https://collectorscarworld.com/event/bonhams-july-motor-car-sale-at-bicester-heritage/
CATEGORIES:Auctions
ATTACH;FMTTYPE=:
END:VEVENT
BEGIN:VEVENT
DTSTART;VALUE=DATE:20200803
DTEND;VALUE=DATE:20200808
DTSTAMP:20260425T184809
CREATED:20200625T111427Z
LAST-MODIFIED:20200625T111427Z
UID:323350-1596412800-1596844799@collectorscarworld.com
SUMMARY:Gooding & Company: Geared Online Auction
DESCRIPTION:
URL:https://collectorscarworld.com/event/gooding-company-geared-online-auction/
CATEGORIES:Auctions
ATTACH;FMTTYPE=:
END:VEVENT
BEGIN:VEVENT
DTSTART;VALUE=DATE:20200814
DTEND;VALUE=DATE:20200815
DTSTAMP:20260425T184809
CREATED:20200513T110031Z
LAST-MODIFIED:20200513T110031Z
UID:321034-1597363200-1597449599@collectorscarworld.com
SUMMARY:Quail Motorcar Auction
DESCRIPTION:
URL:https://collectorscarworld.com/event/quail-motorcar-auction/
CATEGORIES:Auctions
ATTACH;FMTTYPE=:
END:VEVENT
BEGIN:VEVENT
DTSTART;VALUE=DATE:20200906
DTEND;VALUE=DATE:20200907
DTSTAMP:20260425T184809
CREATED:20200522T130755Z
LAST-MODIFIED:20200522T130755Z
UID:321598-1599350400-1599436799@collectorscarworld.com
SUMMARY:Bonhams Autumn Motor Car Auction With Autoworld Brussels
DESCRIPTION:
URL:https://collectorscarworld.com/event/bonhams-autumn-motor-car-auction-with-autoworld-brussels/
CATEGORIES:Auctions
ATTACH;FMTTYPE=:
END:VEVENT
BEGIN:VEVENT
DTSTART;VALUE=DATE:20200913
DTEND;VALUE=DATE:20200914
DTSTAMP:20260425T184809
CREATED:20200522T131109Z
LAST-MODIFIED:20200522T131109Z
UID:321601-1599955200-1600041599@collectorscarworld.com
SUMMARY:Artcurial: André Trigano Collection
DESCRIPTION:
URL:https://collectorscarworld.com/event/artcurial-andre-trigano-collection/
CATEGORIES:Auctions
ATTACH;FMTTYPE=:
END:VEVENT
BEGIN:VEVENT
DTSTART;VALUE=DATE:20200920
DTEND;VALUE=DATE:20200921
DTSTAMP:20260425T184809
CREATED:20200315T213736Z
LAST-MODIFIED:20200315T213736Z
UID:316726-1600560000-1600646399@collectorscarworld.com
SUMMARY:The Bonmont Sale
DESCRIPTION:
URL:https://collectorscarworld.com/event/the-bonmont-sale/
CATEGORIES:Auctions
ATTACH;FMTTYPE=:
END:VEVENT
BEGIN:VEVENT
DTSTART;VALUE=DATE:20200927
DTEND;VALUE=DATE:20200928
DTSTAMP:20260425T184809
CREATED:20200914T104830Z
LAST-MODIFIED:20200914T104830Z
UID:327976-1601164800-1601251199@collectorscarworld.com
SUMMARY:Artcurial: André Lurton Estate
DESCRIPTION:
URL:https://collectorscarworld.com/event/artcurial-andre-lurton-estate/
CATEGORIES:Auctions
ATTACH;FMTTYPE=:
END:VEVENT
BEGIN:VEVENT
DTSTART;VALUE=DATE:20201011
DTEND;VALUE=DATE:20201012
DTSTAMP:20260425T184809
CREATED:20200315T214513Z
LAST-MODIFIED:20200315T214513Z
UID:316741-1602374400-1602460799@collectorscarworld.com
SUMMARY:Bonhams Zoute Sale
DESCRIPTION:
URL:https://collectorscarworld.com/event/zoute-sale/
CATEGORIES:Auctions
ATTACH;FMTTYPE=:
END:VEVENT
BEGIN:VEVENT
DTSTART;VALUE=DATE:20201015
DTEND;VALUE=DATE:20201018
DTSTAMP:20260425T184809
CREATED:20200914T105629Z
LAST-MODIFIED:20200914T105629Z
UID:327979-1602720000-1602979199@collectorscarworld.com
SUMMARY:Mecum Dallas
DESCRIPTION:Find out more
URL:https://collectorscarworld.com/event/mecum-dallas/
CATEGORIES:Auctions
ATTACH;FMTTYPE=:
END:VEVENT
BEGIN:VEVENT
DTSTART;VALUE=DATE:20201017
DTEND;VALUE=DATE:20201018
DTSTAMP:20260425T184809
CREATED:20200720T103929Z
LAST-MODIFIED:20200720T103929Z
UID:324765-1602892800-1602979199@collectorscarworld.com
SUMMARY:Bonhams Goodwood Speedweek Auction
DESCRIPTION:
URL:https://collectorscarworld.com/event/bonhams-goodwood-speedweek-auction/
CATEGORIES:Auctions
ATTACH;FMTTYPE=:
END:VEVENT
BEGIN:VEVENT
DTSTART;VALUE=DATE:20201026
DTEND;VALUE=DATE:20201031
DTSTAMP:20260425T184809
CREATED:20201007T132006Z
LAST-MODIFIED:20201007T132006Z
UID:329707-1603670400-1604102399@collectorscarworld.com
SUMMARY:Geared Online by Gooding & Company
DESCRIPTION:
URL:https://collectorscarworld.com/event/geared-online-by-gooding-company/
CATEGORIES:Auctions
ATTACH;FMTTYPE=:
END:VEVENT
BEGIN:VEVENT
DTSTART;VALUE=DATE:20201029
DTEND;VALUE=DATE:20201101
DTSTAMP:20260425T184809
CREATED:20200914T121123Z
LAST-MODIFIED:20200914T121123Z
UID:327996-1603929600-1604188799@collectorscarworld.com
SUMMARY:Mecum Indy
DESCRIPTION:Find out more
URL:https://collectorscarworld.com/event/mecum-indy/
CATEGORIES:Auctions
ATTACH;FMTTYPE=:
END:VEVENT
BEGIN:VEVENT
DTSTART;VALUE=DATE:20201030
DTEND;VALUE=DATE:20201031
DTSTAMP:20260425T184809
CREATED:20200831T184224Z
LAST-MODIFIED:20200831T184224Z
UID:327316-1604016000-1604102399@collectorscarworld.com
SUMMARY:Bonhams: The Golden Age of Motoring Sale '1886-1939'
DESCRIPTION:
URL:https://collectorscarworld.com/event/bonahms-the-golden-age-of-motoring-sale-1886-1939/
CATEGORIES:Auctions
ATTACH;FMTTYPE=:
END:VEVENT
BEGIN:VEVENT
DTSTART;VALUE=DATE:20201031
DTEND;VALUE=DATE:20201101
DTSTAMP:20260425T184809
CREATED:20200924T074211Z
LAST-MODIFIED:20200924T074211Z
UID:328610-1604102400-1604188799@collectorscarworld.com
SUMMARY:RM Sotheby’s London
DESCRIPTION:Find out more
URL:https://collectorscarworld.com/event/rm-sothebys-london-to-brighton-veteran-car-run/
CATEGORIES:Auctions
ATTACH;FMTTYPE=:
END:VEVENT
BEGIN:VEVENT
DTSTART;VALUE=DATE:20201112
DTEND;VALUE=DATE:20201115
DTSTAMP:20260425T184809
CREATED:20200914T121352Z
LAST-MODIFIED:20200914T121352Z
UID:327999-1605139200-1605398399@collectorscarworld.com
SUMMARY:Mecum Las Vegas
DESCRIPTION:Find out more
URL:https://collectorscarworld.com/event/mecum-las-vegas/
CATEGORIES:Auctions
ATTACH;FMTTYPE=:
END:VEVENT
BEGIN:VEVENT
DTSTART;VALUE=DATE:20201113
DTEND;VALUE=DATE:20201116
DTSTAMP:20260425T184809
CREATED:20200914T124852Z
LAST-MODIFIED:20200914T124852Z
UID:328008-1605225600-1605484799@collectorscarworld.com
SUMMARY:NEC Classic Motor Show Sale
DESCRIPTION:Find out more
URL:https://collectorscarworld.com/event/nec-classic-motor-show-sale/
CATEGORIES:Auctions
ATTACH;FMTTYPE=:
END:VEVENT
BEGIN:VEVENT
DTSTART;VALUE=DATE:20201119
DTEND;VALUE=DATE:20201122
DTSTAMP:20260425T184809
CREATED:20200914T121600Z
LAST-MODIFIED:20200914T121600Z
UID:328002-1605744000-1606003199@collectorscarworld.com
SUMMARY:Mecum Davenport
DESCRIPTION:
URL:https://collectorscarworld.com/event/mecum-davenport/
CATEGORIES:Auctions
ATTACH;FMTTYPE=:
END:VEVENT
END:VCALENDAR