BEGIN:VCALENDAR
VERSION:2.0
PRODID:-//collectorscarworld - ECPv6.6.3//NONSGML v1.0//EN
CALSCALE:GREGORIAN
METHOD:PUBLISH
X-ORIGINAL-URL:https://collectorscarworld.com
X-WR-CALDESC:Events for collectorscarworld
REFRESH-INTERVAL;VALUE=DURATION:PT1H
X-Robots-Tag:noindex
X-PUBLISHED-TTL:PT1H
BEGIN:VTIMEZONE
TZID:Europe/Berlin
BEGIN:DAYLIGHT
TZOFFSETFROM:+0100
TZOFFSETTO:+0200
TZNAME:CEST
DTSTART:20190331T010000
END:DAYLIGHT
BEGIN:STANDARD
TZOFFSETFROM:+0200
TZOFFSETTO:+0100
TZNAME:CET
DTSTART:20191027T010000
END:STANDARD
END:VTIMEZONE
BEGIN:VEVENT
DTSTART;VALUE=DATE:20190920
DTEND;VALUE=DATE:20190922
DTSTAMP:20260425T024504
CREATED:20190805T123418Z
LAST-MODIFIED:20190805T123418Z
UID:299364-1568937600-1569110399@collectorscarworld.com
SUMMARY:Saratoga Auto Auction
DESCRIPTION:www.saratogaautoauction.org
URL:https://collectorscarworld.com/event/saratoga-auto-auction/
CATEGORIES:Auctions
ATTACH;FMTTYPE=:
END:VEVENT
BEGIN:VEVENT
DTSTART;VALUE=DATE:20190921
DTEND;VALUE=DATE:20190922
DTSTAMP:20260425T024504
CREATED:20190813T153341Z
LAST-MODIFIED:20190813T153341Z
UID:299704-1569024000-1569110399@collectorscarworld.com
SUMMARY:Silverstone Auctions: A Sale of Ferrari and Porsche
DESCRIPTION:dedicated Ferrari and Porsche sales which are in association with Ferrari Owners Club GB and Porsche Club GB. \nThe sales take place on Saturday 21st September at Dallas Burston Polo Club\, Warwickshire\, CV47 2DL. \nhttps://www.silverstoneauctions.com/
URL:https://collectorscarworld.com/event/silverstone-auctions-sale-ferrari-porsche/
CATEGORIES:Auctions
ATTACH;FMTTYPE=:
END:VEVENT
BEGIN:VEVENT
DTSTART;VALUE=DATE:20190921
DTEND;VALUE=DATE:20190922
DTSTAMP:20260425T024504
CREATED:20190813T153550Z
LAST-MODIFIED:20190813T153550Z
UID:299708-1569024000-1569110399@collectorscarworld.com
SUMMARY:Brooklands Motor Museum 21st September 2019 Sale
DESCRIPTION:With its home at the Brooklands Museum\, Britain’s most evocative motoring arena\, Historics auction house is now firmly established for the sale and purchase of the finest historic\, classic and sports cars and motoring memorabilia. \nHistorics independent auctioneers brings together a wealth of specialist motoring experience and with the endorsement from the Brooklands Museum Trust Ltd\, aims to preserve and extend the tradition of some of motorings’ most prestigious names. \nBesides an interest in renowned marques such as Bentley\, Ferrari\, Aston Martin\, Mercedes-Benz\, Rolls-Royce\, Porsche and Jaguar\, Historics will welcome the opportunity to offer advice\, expertise and enthusiasm to anyone looking to buy or sell any classic car at auction. \nhttps://www.historics.co.uk
URL:https://collectorscarworld.com/event/brooklands-motor-museum-21st-september-2019-sale/
CATEGORIES:Auctions
ATTACH;FMTTYPE=:
END:VEVENT
END:VCALENDAR