BEGIN:VCALENDAR
VERSION:2.0
PRODID:-//collectorscarworld - ECPv6.6.3//NONSGML v1.0//EN
CALSCALE:GREGORIAN
METHOD:PUBLISH
X-ORIGINAL-URL:https://collectorscarworld.com
X-WR-CALDESC:Events for collectorscarworld
REFRESH-INTERVAL;VALUE=DURATION:PT1H
X-Robots-Tag:noindex
X-PUBLISHED-TTL:PT1H
BEGIN:VTIMEZONE
TZID:Europe/Berlin
BEGIN:DAYLIGHT
TZOFFSETFROM:+0100
TZOFFSETTO:+0200
TZNAME:CEST
DTSTART:20190331T010000
END:DAYLIGHT
BEGIN:STANDARD
TZOFFSETFROM:+0200
TZOFFSETTO:+0100
TZNAME:CET
DTSTART:20191027T010000
END:STANDARD
END:VTIMEZONE
BEGIN:VEVENT
DTSTART;VALUE=DATE:20190705
DTEND;VALUE=DATE:20190706
DTSTAMP:20260425T045855
CREATED:20190203T100513Z
LAST-MODIFIED:20190203T100513Z
UID:290572-1562284800-1562371199@collectorscarworld.com
SUMMARY:Bonhams Goodwood Festival Of Speed Sale
DESCRIPTION:Important Collectors’ Motor Cars and Automobilia\, Chichester\, Sussex \nwww.bonhams.com
URL:https://collectorscarworld.com/event/bonhams-goodwood-festival-speed-sale-2/
CATEGORIES:Auctions
ATTACH;FMTTYPE=:
END:VEVENT
BEGIN:VEVENT
DTSTART;VALUE=DATE:20190705
DTEND;VALUE=DATE:20190706
DTSTAMP:20260425T045855
CREATED:20190226T070017Z
LAST-MODIFIED:20190226T070017Z
UID:285446-1562284800-1562371199@collectorscarworld.com
SUMMARY:Bonhams: Goodwood Festival Of Speed Sale
DESCRIPTION:www.bonhams.com
URL:https://collectorscarworld.com/event/bonhams-goodwood-festival-speed-sale/
CATEGORIES:Auctions
ATTACH;FMTTYPE=:
END:VEVENT
END:VCALENDAR