BEGIN:VCALENDAR
VERSION:2.0
PRODID:-//collectorscarworld - ECPv6.6.3//NONSGML v1.0//EN
CALSCALE:GREGORIAN
METHOD:PUBLISH
X-ORIGINAL-URL:https://collectorscarworld.com
X-WR-CALDESC:Events for collectorscarworld
REFRESH-INTERVAL;VALUE=DURATION:PT1H
X-Robots-Tag:noindex
X-PUBLISHED-TTL:PT1H
BEGIN:VTIMEZONE
TZID:Europe/Berlin
BEGIN:DAYLIGHT
TZOFFSETFROM:+0100
TZOFFSETTO:+0200
TZNAME:CEST
DTSTART:20190331T010000
END:DAYLIGHT
BEGIN:STANDARD
TZOFFSETFROM:+0200
TZOFFSETTO:+0100
TZNAME:CET
DTSTART:20191027T010000
END:STANDARD
END:VTIMEZONE
BEGIN:VEVENT
DTSTART;VALUE=DATE:20190103
DTEND;VALUE=DATE:20190114
DTSTAMP:20260425T160932
CREATED:20181217T090534Z
LAST-MODIFIED:20181217T090534Z
UID:273984-1546473600-1547423999@collectorscarworld.com
SUMMARY:Mecum: Kissimmee
DESCRIPTION:Osceola Heritage Park\n1875 Silver Spur Lane Kissimmee\, FL 34744 \nwww.mecum.com
URL:https://collectorscarworld.com/event/mecum-kissimmee/
CATEGORIES:Auctions
ATTACH;FMTTYPE=:
END:VEVENT
END:VCALENDAR