BEGIN:VCALENDAR
VERSION:2.0
PRODID:-//collectorscarworld - ECPv6.6.3//NONSGML v1.0//EN
CALSCALE:GREGORIAN
METHOD:PUBLISH
X-ORIGINAL-URL:https://collectorscarworld.com
X-WR-CALDESC:Events for collectorscarworld
REFRESH-INTERVAL;VALUE=DURATION:PT1H
X-Robots-Tag:noindex
X-PUBLISHED-TTL:PT1H
BEGIN:VTIMEZONE
TZID:Europe/Berlin
BEGIN:DAYLIGHT
TZOFFSETFROM:+0100
TZOFFSETTO:+0200
TZNAME:CEST
DTSTART:20200329T010000
END:DAYLIGHT
BEGIN:STANDARD
TZOFFSETFROM:+0200
TZOFFSETTO:+0100
TZNAME:CET
DTSTART:20201025T010000
END:STANDARD
END:VTIMEZONE
BEGIN:VEVENT
DTSTART;VALUE=DATE:20201203
DTEND;VALUE=DATE:20201206
DTSTAMP:20260424T013046
CREATED:20200914T121917Z
LAST-MODIFIED:20200914T121917Z
UID:328005-1606953600-1607212799@collectorscarworld.com
SUMMARY:Mecum Houston
DESCRIPTION:Find out more
URL:https://collectorscarworld.com/event/mecum-houston-2/
CATEGORIES:Auctions
ATTACH;FMTTYPE=:
END:VEVENT
BEGIN:VEVENT
DTSTART;VALUE=DATE:20201203
DTEND;VALUE=DATE:20201204
DTSTAMP:20260424T013046
CREATED:20201015T094242Z
LAST-MODIFIED:20201015T094242Z
UID:330080-1606953600-1607039999@collectorscarworld.com
SUMMARY:Automobiles sur les Champs-Elysées
DESCRIPTION:
URL:https://collectorscarworld.com/event/automobiles-sur-les-champs-elysees/
CATEGORIES:Auctions
ATTACH;FMTTYPE=:
END:VEVENT
BEGIN:VEVENT
DTSTART;VALUE=DATE:20201211
DTEND;VALUE=DATE:20201212
DTSTAMP:20260424T013046
CREATED:20201018T174202Z
LAST-MODIFIED:20201018T174202Z
UID:330251-1607644800-1607731199@collectorscarworld.com
SUMMARY:Bonhams MPH December Auction
DESCRIPTION:
URL:https://collectorscarworld.com/event/bonhams-mph-december-auction/
CATEGORIES:Auctions
ATTACH;FMTTYPE=:
END:VEVENT
BEGIN:VEVENT
DTSTART;VALUE=DATE:20201216
DTEND;VALUE=DATE:20201217
DTSTAMP:20260424T013046
CREATED:20201111T172025Z
LAST-MODIFIED:20201111T172025Z
UID:331685-1608076800-1608163199@collectorscarworld.com
SUMMARY:Bonhams: The Bond Street Sale
DESCRIPTION:
URL:https://collectorscarworld.com/event/bonhams-the-bond-street-sale/
CATEGORIES:Auctions
ATTACH;FMTTYPE=:
END:VEVENT
END:VCALENDAR