BEGIN:VCALENDAR
VERSION:2.0
PRODID:-//collectorscarworld - ECPv6.6.3//NONSGML v1.0//EN
CALSCALE:GREGORIAN
METHOD:PUBLISH
X-ORIGINAL-URL:https://collectorscarworld.com
X-WR-CALDESC:Events for collectorscarworld
REFRESH-INTERVAL;VALUE=DURATION:PT1H
X-Robots-Tag:noindex
X-PUBLISHED-TTL:PT1H
BEGIN:VTIMEZONE
TZID:Europe/Berlin
BEGIN:DAYLIGHT
TZOFFSETFROM:+0100
TZOFFSETTO:+0200
TZNAME:CEST
DTSTART:20190331T010000
END:DAYLIGHT
BEGIN:STANDARD
TZOFFSETFROM:+0200
TZOFFSETTO:+0100
TZNAME:CET
DTSTART:20191027T010000
END:STANDARD
END:VTIMEZONE
BEGIN:VEVENT
DTSTART;VALUE=DATE:20190815
DTEND;VALUE=DATE:20190818
DTSTAMP:20260425T024415
CREATED:20190805T122459Z
LAST-MODIFIED:20190805T122459Z
UID:299358-1565827200-1566086399@collectorscarworld.com
SUMMARY:Mecum Monterey 2019
DESCRIPTION:Hyatt Regency Monterey Hotel and Spa – Del Monte Golf Course 1 Old Golf Course Road Monterey\, CA 93940 \nwww.mecum.com
URL:https://collectorscarworld.com/event/mecum-monterey-2019/
CATEGORIES:Auctions
ATTACH;FMTTYPE=:
END:VEVENT
BEGIN:VEVENT
DTSTART;VALUE=DATE:20190816
DTEND;VALUE=DATE:20190817
DTSTAMP:20260425T024415
CREATED:20190203T101030Z
LAST-MODIFIED:20190203T101030Z
UID:290579-1565913600-1565999999@collectorscarworld.com
SUMMARY:Bonhams Quail Lodge Auction
DESCRIPTION:Carmel\, California \nwww.bonhams.com
URL:https://collectorscarworld.com/event/bonhams-quail-lodge-auction/
CATEGORIES:Auctions
ATTACH;FMTTYPE=:
END:VEVENT
BEGIN:VEVENT
DTSTART;VALUE=DATE:20190816
DTEND;VALUE=DATE:20190818
DTSTAMP:20260425T024415
CREATED:20190805T123640Z
LAST-MODIFIED:20190805T123640Z
UID:299367-1565913600-1566086399@collectorscarworld.com
SUMMARY:Gooding & Company: The Pebble Beach Auctions
DESCRIPTION:www.goodingco.com
URL:https://collectorscarworld.com/event/gooding-company-pebble-beach-auctions/
CATEGORIES:Auctions
ATTACH;FMTTYPE=:
END:VEVENT
BEGIN:VEVENT
DTSTART;VALUE=DATE:20190817
DTEND;VALUE=DATE:20190819
DTSTAMP:20260425T024415
CREATED:20190805T131243Z
LAST-MODIFIED:20190805T131243Z
UID:299379-1566000000-1566172799@collectorscarworld.com
SUMMARY:RM Sotheby's Monterey Auction
DESCRIPTION:MONTEREY CONFERENCE CENTER\, MONTEREY\, CALIFORNIA / INCLUDING AN EVENING WITH ASTON MARTIN \nwww.rmsothebys.com
URL:https://collectorscarworld.com/event/rm-sothebys-monterey-auction/
CATEGORIES:Auctions
ATTACH;FMTTYPE=:
END:VEVENT
END:VCALENDAR