BEGIN:VCALENDAR
VERSION:2.0
PRODID:-//collectorscarworld - ECPv6.6.3//NONSGML v1.0//EN
CALSCALE:GREGORIAN
METHOD:PUBLISH
X-ORIGINAL-URL:https://collectorscarworld.com
X-WR-CALDESC:Events for collectorscarworld
REFRESH-INTERVAL;VALUE=DURATION:PT1H
X-Robots-Tag:noindex
X-PUBLISHED-TTL:PT1H
BEGIN:VTIMEZONE
TZID:Europe/Berlin
BEGIN:DAYLIGHT
TZOFFSETFROM:+0100
TZOFFSETTO:+0200
TZNAME:CEST
DTSTART:20190331T010000
END:DAYLIGHT
BEGIN:STANDARD
TZOFFSETFROM:+0200
TZOFFSETTO:+0100
TZNAME:CET
DTSTART:20191027T010000
END:STANDARD
END:VTIMEZONE
BEGIN:VEVENT
DTSTART;VALUE=DATE:20190602
DTEND;VALUE=DATE:20190603
DTSTAMP:20260425T045616
CREATED:20190405T060805Z
LAST-MODIFIED:20190405T060805Z
UID:290575-1559433600-1559519999@collectorscarworld.com
SUMMARY:Bonhams Greenwich Concours D'Elegance Auction
DESCRIPTION:Greenwich\, Connecticut\, June 2\, 2019 \nwww.bonhams.com
URL:https://collectorscarworld.com/event/bonhams-greenwich-concours-delegance-auction/
CATEGORIES:Auctions
ATTACH;FMTTYPE=:
END:VEVENT
BEGIN:VEVENT
DTSTART;VALUE=DATE:20190621
DTEND;VALUE=DATE:20190623
DTSTAMP:20260425T045616
CREATED:20190405T080012Z
LAST-MODIFIED:20190405T080012Z
UID:293279-1561075200-1561247999@collectorscarworld.com
SUMMARY:Mecum Portland 2019
DESCRIPTION:Portland Expo Center 2060 N Marine Drive Portland\, OR 97217 \nwww.mecum.com
URL:https://collectorscarworld.com/event/mecum-portland-2019/
CATEGORIES:Auctions
ATTACH;FMTTYPE=:
END:VEVENT
BEGIN:VEVENT
DTSTART;VALUE=DATE:20190630
DTEND;VALUE=DATE:20190701
DTSTAMP:20260425T045616
CREATED:20190401T115752Z
LAST-MODIFIED:20190401T115752Z
UID:285451-1561852800-1561939199@collectorscarworld.com
SUMMARY:Bonhams: The Chantilly Sale
DESCRIPTION:Bonhams is delighted to announce its return to the breathtaking grounds of the Chateau de Chantilly. Timed to tie in with the Chantilly Arts & Elegance Richard Mille Concours this will be an auction for a limited number of very special collectors’ motor cars. \nThis year’s “Chantilly Sale” will be held on Sunday 30 June 2019 at 11am.  A preview of the cars will take place from Friday 28 June 2pm onwards. \nSince 2015\, Bonhams’ “Chantilly Sale”attracts the interest of national and international buyers and is not to be missed. Great previous results like the Maserati Boomerang that sold for 3.335.000€ or the Mercedes 500K Roadster that sold for 5.290.000€\, underlign the importance of the event. \nCars for this auction can be entered until Friday 17 May 2019. For any further information\, please contact the European Motorcars department at +33.1.42.61.10.11 or via email on eurocars@bonhams.com or Philip Kantor\, Head of Department at +32.476.879.471 or via email on philip.kantor@bonhams.com. \nwww.bonhams.com
URL:https://collectorscarworld.com/event/bonhams-chantilly-sale/
CATEGORIES:Auctions
ATTACH;FMTTYPE=:
END:VEVENT
END:VCALENDAR