BEGIN:VCALENDAR
VERSION:2.0
PRODID:-//collectorscarworld - ECPv6.6.3//NONSGML v1.0//EN
CALSCALE:GREGORIAN
METHOD:PUBLISH
X-ORIGINAL-URL:https://collectorscarworld.com
X-WR-CALDESC:Events for collectorscarworld
REFRESH-INTERVAL;VALUE=DURATION:PT1H
X-Robots-Tag:noindex
X-PUBLISHED-TTL:PT1H
BEGIN:VTIMEZONE
TZID:Europe/Berlin
BEGIN:DAYLIGHT
TZOFFSETFROM:+0100
TZOFFSETTO:+0200
TZNAME:CEST
DTSTART:20180325T010000
END:DAYLIGHT
BEGIN:STANDARD
TZOFFSETFROM:+0200
TZOFFSETTO:+0100
TZNAME:CET
DTSTART:20181028T010000
END:STANDARD
END:VTIMEZONE
BEGIN:VEVENT
DTSTART;VALUE=DATE:20181201
DTEND;VALUE=DATE:20181202
DTSTAMP:20260425T150058
CREATED:20181128T075552Z
LAST-MODIFIED:20181128T075552Z
UID:265924-1543622400-1543708799@collectorscarworld.com
SUMMARY:Bonhams: The Bond Street Sale
DESCRIPTION:www.bonhams.com
URL:https://collectorscarworld.com/event/bonhams-bond-street-sale/
CATEGORIES:Auctions
ATTACH;FMTTYPE=:
END:VEVENT
BEGIN:VEVENT
DTSTART;VALUE=DATE:20181208
DTEND;VALUE=DATE:20181209
DTSTAMP:20260425T150058
CREATED:20181205T100308Z
LAST-MODIFIED:20181205T100308Z
UID:269726-1544227200-1544313599@collectorscarworld.com
SUMMARY:RM Sotheby's: The Petersen Automotive Museum Auction
DESCRIPTION:The Petersen Automotive Museum Auction will feature approximately 50–60 blue-chip automobiles\, hand-selected by RM Sotheby’s global team of 30 Car Specialists. \nwww.rmsothebys.com
URL:https://collectorscarworld.com/event/rm-sothebys-petersen-automotive-museum-auction/
CATEGORIES:Auctions
ATTACH;FMTTYPE=:
END:VEVENT
END:VCALENDAR