BEGIN:VCALENDAR
VERSION:2.0
PRODID:-//collectorscarworld - ECPv6.6.3//NONSGML v1.0//EN
CALSCALE:GREGORIAN
METHOD:PUBLISH
X-ORIGINAL-URL:https://collectorscarworld.com
X-WR-CALDESC:Events for collectorscarworld
REFRESH-INTERVAL;VALUE=DURATION:PT1H
X-Robots-Tag:noindex
X-PUBLISHED-TTL:PT1H
BEGIN:VTIMEZONE
TZID:Europe/Berlin
BEGIN:DAYLIGHT
TZOFFSETFROM:+0100
TZOFFSETTO:+0200
TZNAME:CEST
DTSTART:20180325T010000
END:DAYLIGHT
BEGIN:STANDARD
TZOFFSETFROM:+0200
TZOFFSETTO:+0100
TZNAME:CET
DTSTART:20181028T010000
END:STANDARD
END:VTIMEZONE
BEGIN:VEVENT
DTSTART;VALUE=DATE:20181102
DTEND;VALUE=DATE:20181103
DTSTAMP:20260425T160833
CREATED:20181029T073046Z
LAST-MODIFIED:20181029T073046Z
UID:269718-1541116800-1541203199@collectorscarworld.com
SUMMARY:Bonhams: London to Brighton Run Sale
DESCRIPTION:www.bonhams.com
URL:https://collectorscarworld.com/event/bonhams-london-brighton-run-sale/
CATEGORIES:Auctions
ATTACH;FMTTYPE=:
END:VEVENT
BEGIN:VEVENT
DTSTART;VALUE=DATE:20181104
DTEND;VALUE=DATE:20181105
DTSTAMP:20260425T160833
CREATED:20181029T072502Z
LAST-MODIFIED:20181029T072502Z
UID:269722-1541289600-1541375999@collectorscarworld.com
SUMMARY:Artcurial: Automobiles Sur Les Champs 14
DESCRIPTION:www.artcurial.com
URL:https://collectorscarworld.com/event/artcurial-automobiles-sur-les-champs-14/
CATEGORIES:Auctions
ATTACH;FMTTYPE=:
END:VEVENT
BEGIN:VEVENT
DTSTART;VALUE=DATE:20181124
DTEND;VALUE=DATE:20181125
DTSTAMP:20260425T160833
CREATED:20181121T060010Z
LAST-MODIFIED:20181121T060010Z
UID:273981-1543017600-1543103999@collectorscarworld.com
SUMMARY:Historics: The Winter Sale
DESCRIPTION:With its home at the Brooklands Museum\, Britain’s most evocative motoring arena\, Historics auction house is now firmly established for the sale and purchase of the finest historic\, classic and sports cars and motoring memorabilia. \nwww.historics.co.uk
URL:https://collectorscarworld.com/event/historics-winter-sale/
CATEGORIES:Auctions
ATTACH;FMTTYPE=:
END:VEVENT
END:VCALENDAR